BEGIN:VCALENDAR
VERSION:2.0
PRODID:-//Blueprint for Men - ECPv6.15.20//NONSGML v1.0//EN
CALSCALE:GREGORIAN
METHOD:PUBLISH
X-WR-CALNAME:Blueprint for Men
X-ORIGINAL-URL:https://blueprintformen.org
X-WR-CALDESC:Events for Blueprint for Men
REFRESH-INTERVAL;VALUE=DURATION:PT1H
X-Robots-Tag:noindex
X-PUBLISHED-TTL:PT1H
BEGIN:VTIMEZONE
TZID:America/New_York
BEGIN:DAYLIGHT
TZOFFSETFROM:-0500
TZOFFSETTO:-0400
TZNAME:EDT
DTSTART:20250309T070000
END:DAYLIGHT
BEGIN:STANDARD
TZOFFSETFROM:-0400
TZOFFSETTO:-0500
TZNAME:EST
DTSTART:20251102T060000
END:STANDARD
BEGIN:DAYLIGHT
TZOFFSETFROM:-0500
TZOFFSETTO:-0400
TZNAME:EDT
DTSTART:20260308T070000
END:DAYLIGHT
BEGIN:STANDARD
TZOFFSETFROM:-0400
TZOFFSETTO:-0500
TZNAME:EST
DTSTART:20261101T060000
END:STANDARD
BEGIN:DAYLIGHT
TZOFFSETFROM:-0500
TZOFFSETTO:-0400
TZNAME:EDT
DTSTART:20270314T070000
END:DAYLIGHT
BEGIN:STANDARD
TZOFFSETFROM:-0400
TZOFFSETTO:-0500
TZNAME:EST
DTSTART:20271107T060000
END:STANDARD
END:VTIMEZONE
BEGIN:VEVENT
DTSTART;VALUE=DATE:20260627
DTEND;VALUE=DATE:20260628
DTSTAMP:20260424T085038
CREATED:20260410T183713Z
LAST-MODIFIED:20260415T204808Z
UID:15590-1782518400-1782604799@blueprintformen.org
SUMMARY:Paddling the South Chickamauga Creek
DESCRIPTION:Step away from the noise and get out into God’s creation with a group of men committed to growth\, challenge\, and brotherhood. \n\nBRIEFING: \n\nWe’ll kick things off with a short devotional\, followed by a mandatory safety and logistics briefing. Then we gear up\, load out\, and roll at 2:15 PM sharp to the put-in location. \nOnce we launch\, expect a ~4-hour paddle through scenic waterways surrounded by local wildlife and natural beauty. This isn’t just a float—it’s time to reset\, sharpen your mindset\, and build real connections with other men. \nWe operate as a team\, and every man needs to be prepared and aligned before we hit the water. Put-in and take-out locations will be shared during the briefing. \nNo briefing = no paddle \n\nITINERARY: \n\n1:30 pm     Trip Briefing @ The Outpost (5050 Layton Lane\, Apison\, TN) \n\nDevotional\nSafety\nLogistics\n\n2:15 pm     Drive to Boat Launch \n3:00 pm    Boat Launch \n7:00 pm    Take Out & Head Home \n8:00 pm    Arrive back Home \n\nWHAT TO BRING: \n\n\nKayak\, Paddles\, PFD (life jacket) – these are provided!\nSunscreen\nHat\nTowel\nSnacks\nPhone (waterproof bag)\n\n\n\nRSVP: \n\nText either of the trip leaders to reserve your spot! Space is limited to 10 people so don’t delay. \n\nJeremiah Curda (817) 298 1520\nJacob Carvalho (707) 490 5313\n\n\n\nMORE INFO:  \n\nPaddle South Chickamauga Creek – Chattanooga Audubon Society
URL:https://blueprintformen.org/event/scenic-south-chickamauga-creek-paddling/
LOCATION:5050 Layton\, 5050 Layton Lane\, Apison\, TN\, 37302-9513\, United States
ATTACH;FMTTYPE=image/jpeg:https://blueprintformen.org/wp-content/uploads/2026/04/paddle-jpeg.jpg
END:VEVENT
BEGIN:VEVENT
DTSTART;VALUE=DATE:20260719
DTEND;VALUE=DATE:20260727
DTSTAMP:20260424T085038
CREATED:20240422T143020Z
LAST-MODIFIED:20260422T184547Z
UID:10112-1784419200-1785110399@blueprintformen.org
SUMMARY:Father-Son Rite of Passage
DESCRIPTION:The Father-Son Rite of Passage is a 7-day backpacking trip in one of the most stunning sections of the Rocky Mountains\, the Wind River Range of Wyoming.  The purpose of this trek is not to see how fast we can go but how deep we can go\, so most days are fairly short in distance but long in meaningful experiences.  During our time together you will not only strengthen your outdoor skills and nature knowledge but you will also be challenged to go deeper with God\, yourself\, and others.  Plus you will have a special bonding experience with your son(s) that will last a life-time.  Be prepared to be stretched in every way… but we’ll have fun doing it! \n\nOVERVIEW\n\nWHEN: July 19-26\, 2026\nWHO:  Fathers and their sons (ages 13+)\nWHAT:  Backpacking\, nature study\, outdoor leadership\, walking with God\nWHERE:  Big Sandy Trailhead\, Wind River Range\, WY\nPROVIDED:  Trip leadership\, naturalist education\, spiritual guidance\, etc.\nBRING:  You are responsible for your own camping equipment\nCOST:   $300 per dad. This helps cover our shared expenses.\nSIGN-UP DEADLINE: April 30\, 2026 or until filled!\n\nREGISTER HERE\n\nITINERARY\n\n\nSun\, July 19 – Travel Day\nMon\, July 20 – Hike from trailhead to Big Sandy Lake\nTue\, July 21 – Day hike to Cirque of the Towers\nWed\, July 22 – Hike to Clear Lake\nThu\, July 23 – Climb Haystack Mountain\nFri\, July 24 – Climb East Temple Peak\nSat\, July 25 – Rest and Renewal\nSun\, July 26 – Exit Wilderness & Ceremony\nMon\, July 27 – Travel Day\n\n\n\nTIMELINE\n\nNow – Register\nNow – Acquire gear\nNow – Begin physical training\nNow – Read “Manhood Rites and Blessings”\nNow – Begin the “Adulting Challenge Blueprint”\nMay 12 – Zoom Meeting #1 @ 8:00 pm ET – link\nJune 2 – Zoom Meeting #2 @ 8:00 pm ET – link\nJuly 6 – Zoom Meeting #3 @ 8:00 pm ET – link\n\n\nLEADERSHIP\n \nMarty Miller\, M.S. Ed.                         \nMarty is gifted at discovering and sharing spiritual lessons from nature\, God’s second book\, as modeled by Jesus Christ\, the master educator.  He is an experienced outdoorsman with skills and certifications that include WMI/NOLS Wilderness First Responder\, ACA Swift Water Rescue\, and AIARE Avalanche Safety.  Marty and his wife Gale have two adult children and 6 grandchildren. Life is good! \n\nEmail – marty@blueprintformen.org\nPhone – 423-322-8491\n\n \nJeremiah Curda\, CCP/FPC   \nJeremiah is an avid outdoorsman whose resume includes everything from rock climbing to skydiving instructor. With a background of over 15 years of 911 EMS experience including\, ground transport\, critical care transport and flight paramedic he brings a high level of expertise and skills to our outdoor leadership team.  Jeremiah is passionate about sharing his love for God through community outreach\, homeless ministry\, and outdoor adventure. His high energy and skills are indispensable to the success of our expedition! \n\nTRIP PREPARATION \n\n\n\n2026 Rite of Passage Expedition – Info Packet\n\nManhood Rites and Blessings\nThe Adulting Challenge Blueprint
URL:https://blueprintformen.org/event/father-son-rite-of-passage/
LOCATION:Wind River Range\, WY\, Boulder\, WY\, 82923\, United States
ATTACH;FMTTYPE=image/png:https://blueprintformen.org/wp-content/uploads/2024/03/Mens-Leadership-Course-958x803-1.png
END:VEVENT
END:VCALENDAR